BEGIN:VCALENDAR
VERSION:2.0
PRODID:-//Sabre//Sabre VObject 3.5.3//EN
CALSCALE:GREGORIAN
BEGIN:VTIMEZONE
TZID:Europe/London
BEGIN:STANDARD
TZNAME:GMT
DTSTART:19701025T020000
RRULE:FREQ=YEARLY;BYMONTH=10;BYDAY=-1SU
TZOFFSETFROM:+0100
TZOFFSETTO:+0000
END:STANDARD
BEGIN:DAYLIGHT
TZNAME:BST
DTSTART:19700329T010000
RRULE:FREQ=YEARLY;BYMONTH=3;BYDAY=-1SU
TZOFFSETFROM:+0000
TZOFFSETTO:+0100
END:DAYLIGHT
END:VTIMEZONE
BEGIN:VEVENT
UID:event_314263@nhgs.org.uk
DTSTART;VALUE=DATE:20270320
DURATION:P1D
SUMMARY:Concert\, Dream of Gerontius\, Coptic Centre Stevenage
DESCRIPTION:For full event details\, visit: https://www.nhgs.org.uk/dbpage.
 php?pg=view&dbase=events&id=314263
LOCATION:Coptic Church Centre\, Shepalbury Manor\, Stevenage\, SG2 8NP
URL:https://www.nhgs.org.uk/dbpage.php?pg=view&dbase=events&id=314263
END:VEVENT
END:VCALENDAR
